BEGIN:VCALENDAR
VERSION:2.0
PRODID:-//SVENBAUER MEDIA - ECPv6.15.20//NONSGML v1.0//EN
CALSCALE:GREGORIAN
METHOD:PUBLISH
X-WR-CALNAME:SVENBAUER MEDIA
X-ORIGINAL-URL:https://svenbauer-media.de
X-WR-CALDESC:Veranstaltungen für SVENBAUER MEDIA
REFRESH-INTERVAL;VALUE=DURATION:PT1H
X-Robots-Tag:noindex
X-PUBLISHED-TTL:PT1H
BEGIN:VTIMEZONE
TZID:Europe/Berlin
BEGIN:DAYLIGHT
TZOFFSETFROM:+0100
TZOFFSETTO:+0200
TZNAME:CEST
DTSTART:20250330T010000
END:DAYLIGHT
BEGIN:STANDARD
TZOFFSETFROM:+0200
TZOFFSETTO:+0100
TZNAME:CET
DTSTART:20251026T010000
END:STANDARD
BEGIN:DAYLIGHT
TZOFFSETFROM:+0100
TZOFFSETTO:+0200
TZNAME:CEST
DTSTART:20260329T010000
END:DAYLIGHT
BEGIN:STANDARD
TZOFFSETFROM:+0200
TZOFFSETTO:+0100
TZNAME:CET
DTSTART:20261025T010000
END:STANDARD
BEGIN:DAYLIGHT
TZOFFSETFROM:+0100
TZOFFSETTO:+0200
TZNAME:CEST
DTSTART:20270328T010000
END:DAYLIGHT
BEGIN:STANDARD
TZOFFSETFROM:+0200
TZOFFSETTO:+0100
TZNAME:CET
DTSTART:20271031T010000
END:STANDARD
END:VTIMEZONE
BEGIN:VEVENT
DTSTART;TZID=Europe/Berlin:20260422T080000
DTEND;TZID=Europe/Berlin:20260422T170000
DTSTAMP:20260422T201207
CREATED:20260422T134554Z
LAST-MODIFIED:20260422T134554Z
UID:1618-1776844800-1776877200@svenbauer-media.de
SUMMARY:VdK Fest Wershofen
DESCRIPTION:
URL:https://svenbauer-media.de/event/vdk-fest-wershofen/
LOCATION:Grillhütte Wershofen
CATEGORIES:Veranstaltungskalender VG Adenau
END:VEVENT
BEGIN:VEVENT
DTSTART;VALUE=DATE:20260424
DTEND;VALUE=DATE:20260425
DTSTAMP:20260422T201207
CREATED:20260422T112505Z
LAST-MODIFIED:20260422T115601Z
UID:1271-1776988800-1777075199@svenbauer-media.de
SUMMARY:Kirmes Junggesellenfest
DESCRIPTION:
URL:https://svenbauer-media.de/event/kirmes-junggesellenfest/
LOCATION:Festzelt Schuld
CATEGORIES:Veranstaltungskalender VG Adenau
END:VEVENT
BEGIN:VEVENT
DTSTART;VALUE=DATE:20260424
DTEND;VALUE=DATE:20260427
DTSTAMP:20260422T201207
CREATED:20260422T113100Z
LAST-MODIFIED:20260422T113210Z
UID:1294-1776988800-1777247999@svenbauer-media.de
SUMMARY:Nürburgring Drift Cup - Rundkurs 3 Müllenbachschleife
DESCRIPTION:
URL:https://svenbauer-media.de/event/nuerburgring-drift-cup-rundkurs-3-muellenbachschleife/
LOCATION:Nürburgring
CATEGORIES:Veranstaltungskalender VG Adenau
END:VEVENT
BEGIN:VEVENT
DTSTART;TZID=Europe/Berlin:20260424T190000
DTEND;TZID=Europe/Berlin:20260424T223000
DTSTAMP:20260422T201207
CREATED:20260422T113133Z
LAST-MODIFIED:20260422T115522Z
UID:1300-1777057200-1777069800@svenbauer-media.de
SUMMARY:Spiegeltheater Adenau spielt | „Kardinalfehler“
DESCRIPTION:
URL:https://svenbauer-media.de/event/spiegeltheater-adenau-spielt-kardinalfehler-2/
LOCATION:Hocheifelhalle Adenau
CATEGORIES:Veranstaltungskalender VG Adenau
END:VEVENT
BEGIN:VEVENT
DTSTART;TZID=Europe/Berlin:20260425T140000
DTEND;TZID=Europe/Berlin:20260425T180000
DTSTAMP:20260422T201207
CREATED:20260422T113314Z
LAST-MODIFIED:20260422T115516Z
UID:1303-1777125600-1777140000@svenbauer-media.de
SUMMARY:Streuobsttag Frühlingserwachen
DESCRIPTION:
URL:https://svenbauer-media.de/event/streuobsttag-fruehlingserwachen/
LOCATION:Grundschule Antweiler
CATEGORIES:Veranstaltungskalender VG Adenau
END:VEVENT
BEGIN:VEVENT
DTSTART;TZID=Europe/Berlin:20260425T190000
DTEND;TZID=Europe/Berlin:20260425T223000
DTSTAMP:20260422T201207
CREATED:20260422T113242Z
LAST-MODIFIED:20260422T115510Z
UID:1302-1777143600-1777156200@svenbauer-media.de
SUMMARY:Spiegeltheater Adenau spielt | „Kardinalfehler“
DESCRIPTION:
URL:https://svenbauer-media.de/event/spiegeltheater-adenau-spielt-kardinalfehler-3/
LOCATION:Hocheifelhalle Adenau
CATEGORIES:Veranstaltungskalender VG Adenau
END:VEVENT
BEGIN:VEVENT
DTSTART;TZID=Europe/Berlin:20260425T200000
DTEND;TZID=Europe/Berlin:20260425T233000
DTSTAMP:20260422T201207
CREATED:20260422T113202Z
LAST-MODIFIED:20260422T115502Z
UID:1301-1777147200-1777159800@svenbauer-media.de
SUMMARY:Kirmes Junggesellenfest
DESCRIPTION:
URL:https://svenbauer-media.de/event/kirmes-junggesellenfest-2/
LOCATION:Festzelt Schuld
CATEGORIES:Veranstaltungskalender VG Adenau
END:VEVENT
BEGIN:VEVENT
DTSTART;TZID=Europe/Berlin:20260426T110000
DTEND;TZID=Europe/Berlin:20260426T160000
DTSTAMP:20260422T201207
CREATED:20260422T113412Z
LAST-MODIFIED:20260422T115455Z
UID:1305-1777201200-1777219200@svenbauer-media.de
SUMMARY:Motorrad-Gottesdienst „Anlassen“
DESCRIPTION:
URL:https://svenbauer-media.de/event/motorrad-gottesdienst-anlassen/
LOCATION:Nürburgring
CATEGORIES:Veranstaltungskalender VG Adenau
END:VEVENT
BEGIN:VEVENT
DTSTART;TZID=Europe/Berlin:20260426T120000
DTEND;TZID=Europe/Berlin:20260426T230000
DTSTAMP:20260422T201207
CREATED:20260422T113344Z
LAST-MODIFIED:20260422T115450Z
UID:1304-1777204800-1777244400@svenbauer-media.de
SUMMARY:Kirmes Junggesellenfest
DESCRIPTION:
URL:https://svenbauer-media.de/event/kirmes-junggesellenfest-3/
LOCATION:Festzelt Schuld
CATEGORIES:Veranstaltungskalender VG Adenau
END:VEVENT
BEGIN:VEVENT
DTSTART;TZID=Europe/Berlin:20260430T160000
DTEND;TZID=Europe/Berlin:20260430T200000
DTSTAMP:20260422T201207
CREATED:20260422T113620Z
LAST-MODIFIED:20260422T115439Z
UID:1317-1777564800-1777579200@svenbauer-media.de
SUMMARY:Maibaumaufstellen in Wershofen
DESCRIPTION:
URL:https://svenbauer-media.de/event/maibaumaufstellen-in-wershofen/
LOCATION:Wershofen
CATEGORIES:Veranstaltungskalender VG Adenau
END:VEVENT
BEGIN:VEVENT
DTSTART;TZID=Europe/Berlin:20260430T160000
DTEND;TZID=Europe/Berlin:20260430T200000
DTSTAMP:20260422T201207
CREATED:20260422T113833Z
LAST-MODIFIED:20260422T114116Z
UID:1329-1777564800-1777579200@svenbauer-media.de
SUMMARY:Wanderung in den Mai mit der Möhnengesellschaft
DESCRIPTION:
URL:https://svenbauer-media.de/event/wanderung-in-den-mai-mit-der-moehnengesellschaft/
LOCATION:Wershofen
CATEGORIES:Veranstaltungskalender VG Adenau
END:VEVENT
BEGIN:VEVENT
DTSTART;TZID=Europe/Berlin:20260430T160000
DTEND;TZID=Europe/Berlin:20260430T200000
DTSTAMP:20260422T201207
CREATED:20260422T120032Z
LAST-MODIFIED:20260422T120032Z
UID:1319-1777564800-1777579200@svenbauer-media.de
SUMMARY:Wanderung in den Mai mit der Möhnengesellschaft
DESCRIPTION:
URL:https://svenbauer-media.de/event/wanderung-in-den-mai-mit-der-moehnengesellschaft-2/
LOCATION:Wershofen
CATEGORIES:Veranstaltungskalender VG Adenau
END:VEVENT
BEGIN:VEVENT
DTSTART;TZID=Europe/Berlin:20260430T180000
DTEND;TZID=Europe/Berlin:20260430T230000
DTSTAMP:20260422T201207
CREATED:20260422T113714Z
LAST-MODIFIED:20260422T115430Z
UID:1318-1777572000-1777590000@svenbauer-media.de
SUMMARY:Maifeier op de Ohled
DESCRIPTION:
URL:https://svenbauer-media.de/event/maifeier-op-de-ohled/
LOCATION:Dorfgemeinschaftshaus Ohlenhard
CATEGORIES:Veranstaltungskalender VG Adenau
END:VEVENT
BEGIN:VEVENT
DTSTART;TZID=Europe/Berlin:20260430T190000
DTEND;TZID=Europe/Berlin:20260430T220000
DTSTAMP:20260422T201207
CREATED:20260422T113450Z
LAST-MODIFIED:20260422T115321Z
UID:1306-1777575600-1777586400@svenbauer-media.de
SUMMARY:Maibaum aufstellen
DESCRIPTION:
URL:https://svenbauer-media.de/event/maibaum-aufstellen/
LOCATION:Aremberg Gemeindehaus
CATEGORIES:Veranstaltungskalender VG Adenau
END:VEVENT
END:VCALENDAR