BEGIN:VCALENDAR
VERSION:2.0
PRODID:-//SVENBAUER MEDIA - ECPv6.15.20//NONSGML v1.0//EN
CALSCALE:GREGORIAN
METHOD:PUBLISH
X-ORIGINAL-URL:https://svenbauer-media.de
X-WR-CALDESC:Veranstaltungen für SVENBAUER MEDIA
REFRESH-INTERVAL;VALUE=DURATION:PT1H
X-Robots-Tag:noindex
X-PUBLISHED-TTL:PT1H
BEGIN:VTIMEZONE
TZID:Europe/Berlin
BEGIN:DAYLIGHT
TZOFFSETFROM:+0100
TZOFFSETTO:+0200
TZNAME:CEST
DTSTART:20250330T010000
END:DAYLIGHT
BEGIN:STANDARD
TZOFFSETFROM:+0200
TZOFFSETTO:+0100
TZNAME:CET
DTSTART:20251026T010000
END:STANDARD
BEGIN:DAYLIGHT
TZOFFSETFROM:+0100
TZOFFSETTO:+0200
TZNAME:CEST
DTSTART:20260329T010000
END:DAYLIGHT
BEGIN:STANDARD
TZOFFSETFROM:+0200
TZOFFSETTO:+0100
TZNAME:CET
DTSTART:20261025T010000
END:STANDARD
BEGIN:DAYLIGHT
TZOFFSETFROM:+0100
TZOFFSETTO:+0200
TZNAME:CEST
DTSTART:20270328T010000
END:DAYLIGHT
BEGIN:STANDARD
TZOFFSETFROM:+0200
TZOFFSETTO:+0100
TZNAME:CET
DTSTART:20271031T010000
END:STANDARD
END:VTIMEZONE
BEGIN:VEVENT
DTSTART;VALUE=DATE:20260814
DTEND;VALUE=DATE:20260817
DTSTAMP:20260423T050158
CREATED:20260422T134209Z
LAST-MODIFIED:20260422T134209Z
UID:1606-1786665600-1786924799@svenbauer-media.de
SUMMARY:Deutsche Tourenwagen Meisterschaft DTM
DESCRIPTION:
URL:https://svenbauer-media.de/event/deutsche-tourenwagen-meisterschaft-dtm/
LOCATION:Nürburgring
CATEGORIES:Veranstaltungskalender VG Adenau
END:VEVENT
BEGIN:VEVENT
DTSTART;VALUE=DATE:20260814
DTEND;VALUE=DATE:20260818
DTSTAMP:20260423T050158
CREATED:20260422T134244Z
LAST-MODIFIED:20260422T134412Z
UID:1607-1786665600-1787011199@svenbauer-media.de
SUMMARY:Kirmes und Junggesellenfest Wershofen
DESCRIPTION:
URL:https://svenbauer-media.de/event/kirmes-und-junggesellenfest/
LOCATION:Wershofen
CATEGORIES:Veranstaltungskalender VG Adenau
END:VEVENT
BEGIN:VEVENT
DTSTART;VALUE=DATE:20260816
DTEND;VALUE=DATE:20260817
DTSTAMP:20260423T050158
CREATED:20260422T134313Z
LAST-MODIFIED:20260422T134313Z
UID:1608-1786838400-1786924799@svenbauer-media.de
SUMMARY:Kranzniederlegung am Ehrenmal
DESCRIPTION:
URL:https://svenbauer-media.de/event/kranzniederlegung-am-ehrenmal/
LOCATION:Wershofen
CATEGORIES:Veranstaltungskalender VG Adenau
END:VEVENT
BEGIN:VEVENT
DTSTART;TZID=Europe/Berlin:20260816T140000
DTEND;TZID=Europe/Berlin:20260816T180000
DTSTAMP:20260423T050158
CREATED:20260422T134340Z
LAST-MODIFIED:20260422T134340Z
UID:1609-1786888800-1786903200@svenbauer-media.de
SUMMARY:Tag des offenen Turms in Aremberg
DESCRIPTION:
URL:https://svenbauer-media.de/event/tag-des-offenen-turms-in-aremberg-4/
LOCATION:Burgruine Aremberg
CATEGORIES:Veranstaltungskalender VG Adenau
END:VEVENT
BEGIN:VEVENT
DTSTART;TZID=Europe/Berlin:20260820T150000
DTEND;TZID=Europe/Berlin:20260820T180000
DTSTAMP:20260423T050158
CREATED:20260422T134533Z
LAST-MODIFIED:20260422T134533Z
UID:1617-1787238000-1787248800@svenbauer-media.de
SUMMARY:Generationen Treff Adenau
DESCRIPTION:
URL:https://svenbauer-media.de/event/generationen-treff-adenau-6/
LOCATION:Avenue4you Adenau
CATEGORIES:Veranstaltungskalender VG Adenau
END:VEVENT
BEGIN:VEVENT
DTSTART;VALUE=DATE:20260828
DTEND;VALUE=DATE:20260901
DTSTAMP:20260423T050158
CREATED:20260422T134807Z
LAST-MODIFIED:20260422T134807Z
UID:1619-1787875200-1788220799@svenbauer-media.de
SUMMARY:55. Heimatfest der Stadt Adenau
DESCRIPTION:
URL:https://svenbauer-media.de/event/55-heimatfest-der-stadt-adenau/
LOCATION:Adenau
CATEGORIES:Veranstaltungskalender VG Adenau
ATTACH;FMTTYPE=image/jpeg:https://svenbauer-media.de/wp-content/uploads/2026/04/csm_cb902299-3f1a-4199-993d-2cde8256dc70_5538d9e74a.jpg
END:VEVENT
BEGIN:VEVENT
DTSTART;TZID=Europe/Berlin:20260829T150000
DTEND;TZID=Europe/Berlin:20260829T180000
DTSTAMP:20260423T050158
CREATED:20260422T134915Z
LAST-MODIFIED:20260422T134915Z
UID:1620-1788015600-1788026400@svenbauer-media.de
SUMMARY:Adenauer Sommerbiathlon - Stadtstaffel
DESCRIPTION:
URL:https://svenbauer-media.de/event/adenauer-sommerbiathlon-stadtstaffel/
LOCATION:Marktplatz Adenau
CATEGORIES:Veranstaltungskalender VG Adenau
END:VEVENT
BEGIN:VEVENT
DTSTART;VALUE=DATE:20260904
DTEND;VALUE=DATE:20260907
DTSTAMP:20260423T050158
CREATED:20260422T134944Z
LAST-MODIFIED:20260422T134944Z
UID:1621-1788480000-1788739199@svenbauer-media.de
SUMMARY:IDM Internationale Deutsche Motorradmeisterschaft
DESCRIPTION:
URL:https://svenbauer-media.de/event/idm-internationale-deutsche-motorradmeisterschaft/
LOCATION:Nürburgring
CATEGORIES:Veranstaltungskalender VG Adenau
END:VEVENT
BEGIN:VEVENT
DTSTART;VALUE=DATE:20260905
DTEND;VALUE=DATE:20260907
DTSTAMP:20260423T050158
CREATED:20260422T135007Z
LAST-MODIFIED:20260422T135007Z
UID:1622-1788566400-1788739199@svenbauer-media.de
SUMMARY:75 Jahre | Freiwillige Feuerwehr Reifferscheid
DESCRIPTION:
URL:https://svenbauer-media.de/event/75-jahre-freiwillige-feuerwehr-reifferscheid/
LOCATION:Reifferscheid Dorfmitte
CATEGORIES:Veranstaltungskalender VG Adenau
END:VEVENT
BEGIN:VEVENT
DTSTART;VALUE=DATE:20260905
DTEND;VALUE=DATE:20260907
DTSTAMP:20260423T050158
CREATED:20260422T135202Z
LAST-MODIFIED:20260422T135202Z
UID:1625-1788566400-1788739199@svenbauer-media.de
SUMMARY:Maternus Kirmes Pomster
DESCRIPTION:
URL:https://svenbauer-media.de/event/maternus-kirmes-pomster/
LOCATION:Gemeindehaus Pomster
CATEGORIES:Veranstaltungskalender VG Adenau
END:VEVENT
BEGIN:VEVENT
DTSTART;VALUE=DATE:20260905
DTEND;VALUE=DATE:20260908
DTSTAMP:20260423T050158
CREATED:20260422T135130Z
LAST-MODIFIED:20260422T135130Z
UID:1624-1788566400-1788825599@svenbauer-media.de
SUMMARY:Kirmes und Feuerwehrfest in Aremberg
DESCRIPTION:
URL:https://svenbauer-media.de/event/kirmes-und-feuerwehrfest-in-aremberg/
LOCATION:Aremberg Gemeindehaus
CATEGORIES:Veranstaltungskalender VG Adenau
END:VEVENT
BEGIN:VEVENT
DTSTART;TZID=Europe/Berlin:20260905T180000
DTEND;TZID=Europe/Berlin:20260905T210000
DTSTAMP:20260423T050158
CREATED:20260422T135049Z
LAST-MODIFIED:20260422T135049Z
UID:1623-1788631200-1788642000@svenbauer-media.de
SUMMARY:Eröffnung der Wallfahrt in Barweiler
DESCRIPTION:
URL:https://svenbauer-media.de/event/eroeffnung-der-wallfahrt-in-barweiler/
LOCATION:Wallfahrtskirche St. Gertrud Barweiler
CATEGORIES:Veranstaltungskalender VG Adenau
END:VEVENT
BEGIN:VEVENT
DTSTART;VALUE=DATE:20260912
DTEND;VALUE=DATE:20260914
DTSTAMP:20260423T050158
CREATED:20260422T135244Z
LAST-MODIFIED:20260422T135244Z
UID:1626-1789171200-1789343999@svenbauer-media.de
SUMMARY:Feuerwehrfest Wershofen
DESCRIPTION:
URL:https://svenbauer-media.de/event/feuerwehrfest-wershofen/
LOCATION:Wershofen
CATEGORIES:Veranstaltungskalender VG Adenau
END:VEVENT
BEGIN:VEVENT
DTSTART;VALUE=DATE:20260912
DTEND;VALUE=DATE:20260914
DTSTAMP:20260423T050158
CREATED:20260422T135316Z
LAST-MODIFIED:20260422T135316Z
UID:1604-1789171200-1789343999@svenbauer-media.de
SUMMARY:Nürburgring Langstreckenserie NLS 8+9
DESCRIPTION:
URL:https://svenbauer-media.de/event/nuerburgring-langstreckenserie-nls-89/
LOCATION:Nürburgring
CATEGORIES:Veranstaltungskalender VG Adenau
END:VEVENT
BEGIN:VEVENT
DTSTART;TZID=Europe/Berlin:20260916T160000
DTEND;TZID=Europe/Berlin:20260916T190000
DTSTAMP:20260423T050158
CREATED:20260422T135355Z
LAST-MODIFIED:20260422T135355Z
UID:1642-1789574400-1789585200@svenbauer-media.de
SUMMARY:Frauen-Wallfahrtstag Barweiler
DESCRIPTION:
URL:https://svenbauer-media.de/event/frauen-wallfahrtstag-barweiler/
LOCATION:Barweiler
CATEGORIES:Veranstaltungskalender VG Adenau
END:VEVENT
BEGIN:VEVENT
DTSTART;VALUE=DATE:20260918
DTEND;VALUE=DATE:20260921
DTSTAMP:20260423T050158
CREATED:20260422T135522Z
LAST-MODIFIED:20260422T135522Z
UID:1645-1789689600-1789948799@svenbauer-media.de
SUMMARY:Westerntreffen Wershofen
DESCRIPTION:
URL:https://svenbauer-media.de/event/westerntreffen-wershofen/
LOCATION:Schützenhalle Wershofen
CATEGORIES:Veranstaltungskalender VG Adenau
END:VEVENT
BEGIN:VEVENT
DTSTART;VALUE=DATE:20260919
DTEND;VALUE=DATE:20260921
DTSTAMP:20260423T050158
CREATED:20260422T135417Z
LAST-MODIFIED:20260422T135417Z
UID:1643-1789776000-1789948799@svenbauer-media.de
SUMMARY:ADAC 1000 Kilometer-Rennen
DESCRIPTION:
URL:https://svenbauer-media.de/event/adac-1000-kilometer-rennen/
LOCATION:Nürburgring
CATEGORIES:Veranstaltungskalender VG Adenau
END:VEVENT
BEGIN:VEVENT
DTSTART;VALUE=DATE:20260919
DTEND;VALUE=DATE:20260921
DTSTAMP:20260423T050158
CREATED:20260422T135554Z
LAST-MODIFIED:20260422T135554Z
UID:1646-1789776000-1789948799@svenbauer-media.de
SUMMARY:Maternuskirmes in Sierscheid
DESCRIPTION:
URL:https://svenbauer-media.de/event/maternuskirmes-in-sierscheid/
LOCATION:Sierscheid
CATEGORIES:Veranstaltungskalender VG Adenau
END:VEVENT
BEGIN:VEVENT
DTSTART;TZID=Europe/Berlin:20260919T140000
DTEND;TZID=Europe/Berlin:20260919T180000
DTSTAMP:20260423T050158
CREATED:20260422T135453Z
LAST-MODIFIED:20260422T135453Z
UID:1644-1789826400-1789840800@svenbauer-media.de
SUMMARY:Streuobsttag Herbstgenuss auf der Wiese Antweiler
DESCRIPTION:
URL:https://svenbauer-media.de/event/streuobsttag-herbstgenuss-auf-der-wiese-antweiler/
LOCATION:Grundschule Antweiler
CATEGORIES:Veranstaltungskalender VG Adenau
END:VEVENT
BEGIN:VEVENT
DTSTART;TZID=Europe/Berlin:20260920T120000
DTEND;TZID=Europe/Berlin:20260920T170000
DTSTAMP:20260423T050158
CREATED:20260422T135620Z
LAST-MODIFIED:20260422T135620Z
UID:1647-1789905600-1789923600@svenbauer-media.de
SUMMARY:Tag des offenen Turms in Aremberg
DESCRIPTION:
URL:https://svenbauer-media.de/event/tag-des-offenen-turms-in-aremberg-5/
LOCATION:Burgruine Aremberg
CATEGORIES:Veranstaltungskalender VG Adenau
END:VEVENT
END:VCALENDAR