BEGIN:VCALENDAR
VERSION:2.0
PRODID:-//SVENBAUER MEDIA - ECPv6.15.20//NONSGML v1.0//EN
CALSCALE:GREGORIAN
METHOD:PUBLISH
X-WR-CALNAME:SVENBAUER MEDIA
X-ORIGINAL-URL:https://svenbauer-media.de
X-WR-CALDESC:Veranstaltungen für SVENBAUER MEDIA
REFRESH-INTERVAL;VALUE=DURATION:PT1H
X-Robots-Tag:noindex
X-PUBLISHED-TTL:PT1H
BEGIN:VTIMEZONE
TZID:Europe/Berlin
BEGIN:DAYLIGHT
TZOFFSETFROM:+0100
TZOFFSETTO:+0200
TZNAME:CEST
DTSTART:20250330T010000
END:DAYLIGHT
BEGIN:STANDARD
TZOFFSETFROM:+0200
TZOFFSETTO:+0100
TZNAME:CET
DTSTART:20251026T010000
END:STANDARD
BEGIN:DAYLIGHT
TZOFFSETFROM:+0100
TZOFFSETTO:+0200
TZNAME:CEST
DTSTART:20260329T010000
END:DAYLIGHT
BEGIN:STANDARD
TZOFFSETFROM:+0200
TZOFFSETTO:+0100
TZNAME:CET
DTSTART:20261025T010000
END:STANDARD
BEGIN:DAYLIGHT
TZOFFSETFROM:+0100
TZOFFSETTO:+0200
TZNAME:CEST
DTSTART:20270328T010000
END:DAYLIGHT
BEGIN:STANDARD
TZOFFSETFROM:+0200
TZOFFSETTO:+0100
TZNAME:CET
DTSTART:20271031T010000
END:STANDARD
END:VTIMEZONE
BEGIN:VEVENT
DTSTART;VALUE=DATE:20260612
DTEND;VALUE=DATE:20260615
DTSTAMP:20260423T002421
CREATED:20260422T120836Z
LAST-MODIFIED:20260422T120836Z
UID:1365-1781222400-1781481599@svenbauer-media.de
SUMMARY:Nürburgring Classic
DESCRIPTION:
URL:https://svenbauer-media.de/event/nuerburgring-classic/
LOCATION:Nürburgring
CATEGORIES:Veranstaltungskalender VG Adenau
END:VEVENT
BEGIN:VEVENT
DTSTART;VALUE=DATE:20260613
DTEND;VALUE=DATE:20260615
DTSTAMP:20260423T002421
CREATED:20260422T120901Z
LAST-MODIFIED:20260422T120901Z
UID:1366-1781308800-1781481599@svenbauer-media.de
SUMMARY:Rundflugtage | Jugend
DESCRIPTION:
URL:https://svenbauer-media.de/event/rundflugtage-jugend/
LOCATION:Flugplatz Wershofen
CATEGORIES:Veranstaltungskalender VG Adenau
END:VEVENT
BEGIN:VEVENT
DTSTART;TZID=Europe/Berlin:20260613T190000
DTEND;TZID=Europe/Berlin:20260613T220000
DTSTAMP:20260423T002421
CREATED:20260422T120929Z
LAST-MODIFIED:20260422T120929Z
UID:1367-1781377200-1781388000@svenbauer-media.de
SUMMARY:Sommer-Konzert des Stadtorchesters Adenau
DESCRIPTION:
URL:https://svenbauer-media.de/event/sommer-konzert-des-stadtorchesters-adenau/
LOCATION:Hocheifelhalle Adenau
CATEGORIES:Veranstaltungskalender VG Adenau
END:VEVENT
BEGIN:VEVENT
DTSTART;VALUE=DATE:20260614
DTEND;VALUE=DATE:20260615
DTSTAMP:20260423T002421
CREATED:20260422T120958Z
LAST-MODIFIED:20260422T120958Z
UID:1368-1781395200-1781481599@svenbauer-media.de
SUMMARY:Tour de Ahrtal | Rad-Aktionstag
DESCRIPTION:
URL:https://svenbauer-media.de/event/tour-de-ahrtal-rad-aktionstag/
CATEGORIES:Veranstaltungskalender VG Adenau
END:VEVENT
BEGIN:VEVENT
DTSTART;VALUE=DATE:20260614
DTEND;VALUE=DATE:20260824
DTSTAMP:20260423T002421
CREATED:20260422T121034Z
LAST-MODIFIED:20260422T121034Z
UID:1369-1781395200-1787529599@svenbauer-media.de
SUMMARY:Lesesommer| Stadtbücherei Adenau | Mo.-Do.-Fr.
DESCRIPTION:
URL:https://svenbauer-media.de/event/lesesommer-stadtbuecherei-adenau-mo-do-fr/
LOCATION:Stadtbücherei Adenau
CATEGORIES:Veranstaltungskalender VG Adenau
END:VEVENT
BEGIN:VEVENT
DTSTART;TZID=Europe/Berlin:20260618T150000
DTEND;TZID=Europe/Berlin:20260618T180000
DTSTAMP:20260423T002421
CREATED:20260422T121121Z
LAST-MODIFIED:20260422T121121Z
UID:1370-1781794800-1781805600@svenbauer-media.de
SUMMARY:Generationen Treff Adenau
DESCRIPTION:
URL:https://svenbauer-media.de/event/generationen-treff-adenau-4/
LOCATION:Avenue4you Adenau
CATEGORIES:Veranstaltungskalender VG Adenau
END:VEVENT
BEGIN:VEVENT
DTSTART;VALUE=DATE:20260620
DTEND;VALUE=DATE:20260621
DTSTAMP:20260423T002421
CREATED:20260422T121141Z
LAST-MODIFIED:20260422T121141Z
UID:1371-1781913600-1781999999@svenbauer-media.de
SUMMARY:Cheerleading| Stage championship Nationals
DESCRIPTION:
URL:https://svenbauer-media.de/event/cheerleading-stage-championship-nationals/
LOCATION:ring°arena Nürburg\, Nürburg
CATEGORIES:Veranstaltungskalender VG Adenau
END:VEVENT
BEGIN:VEVENT
DTSTART;VALUE=DATE:20260620
DTEND;VALUE=DATE:20260621
DTSTAMP:20260423T002421
CREATED:20260422T121206Z
LAST-MODIFIED:20260422T121206Z
UID:1372-1781913600-1781999999@svenbauer-media.de
SUMMARY:Nürburgring Langstreckenserie NLS 6
DESCRIPTION:
URL:https://svenbauer-media.de/event/nuerburgring-langstreckenserie-nls-6/
LOCATION:Nürburgring
CATEGORIES:Veranstaltungskalender VG Adenau
END:VEVENT
BEGIN:VEVENT
DTSTART;VALUE=DATE:20260621
DTEND;VALUE=DATE:20260622
DTSTAMP:20260423T002421
CREATED:20260422T121225Z
LAST-MODIFIED:20260422T121225Z
UID:1373-1782000000-1782086399@svenbauer-media.de
SUMMARY:GRIP - Das Motorevent
DESCRIPTION:
URL:https://svenbauer-media.de/event/grip-das-motorevent/
LOCATION:Nürburgring
CATEGORIES:Veranstaltungskalender VG Adenau
END:VEVENT
BEGIN:VEVENT
DTSTART;TZID=Europe/Berlin:20260621T120000
DTEND;TZID=Europe/Berlin:20260621T180000
DTSTAMP:20260423T002421
CREATED:20260422T121317Z
LAST-MODIFIED:20260422T121317Z
UID:1376-1782043200-1782064800@svenbauer-media.de
SUMMARY:Tag des offenen Turms in Aremberg
DESCRIPTION:
URL:https://svenbauer-media.de/event/tag-des-offenen-turms-in-aremberg-2/
LOCATION:Burgruine Aremberg
CATEGORIES:Veranstaltungskalender VG Adenau
END:VEVENT
BEGIN:VEVENT
DTSTART;TZID=Europe/Berlin:20260621T130000
DTEND;TZID=Europe/Berlin:20260621T180000
DTSTAMP:20260423T002421
CREATED:20260422T121254Z
LAST-MODIFIED:20260422T121254Z
UID:1375-1782046800-1782064800@svenbauer-media.de
SUMMARY:Picknick-Konzert „MayenspÎl“
DESCRIPTION:
URL:https://svenbauer-media.de/event/picknick-konzert-mayenspil/
LOCATION:Burgruine Aremberg
CATEGORIES:Veranstaltungskalender VG Adenau
END:VEVENT
BEGIN:VEVENT
DTSTART;VALUE=DATE:20260627
DTEND;VALUE=DATE:20260629
DTSTAMP:20260423T002421
CREATED:20260422T121342Z
LAST-MODIFIED:20260422T121342Z
UID:1377-1782518400-1782691199@svenbauer-media.de
SUMMARY:Kirmes und Waffelfest in Honerath
DESCRIPTION:
URL:https://svenbauer-media.de/event/kirmes-und-waffelfest-in-honerath/
LOCATION:Gemeindehaus Honerath
CATEGORIES:Veranstaltungskalender VG Adenau
END:VEVENT
BEGIN:VEVENT
DTSTART;VALUE=DATE:20260703
DTEND;VALUE=DATE:20260706
DTSTAMP:20260423T002421
CREATED:20260422T121424Z
LAST-MODIFIED:20260422T121424Z
UID:1378-1783036800-1783295999@svenbauer-media.de
SUMMARY:DLMM am Ring
DESCRIPTION:
URL:https://svenbauer-media.de/event/dlmm-am-ring/
LOCATION:ring°arena Nürburg\, Nürburg
CATEGORIES:Veranstaltungskalender VG Adenau
END:VEVENT
BEGIN:VEVENT
DTSTART;VALUE=DATE:20260703
DTEND;VALUE=DATE:20260706
DTSTAMP:20260423T002421
CREATED:20260422T121449Z
LAST-MODIFIED:20260422T121449Z
UID:1379-1783036800-1783295999@svenbauer-media.de
SUMMARY:MICHELIN 12H Nürburgring
DESCRIPTION:
URL:https://svenbauer-media.de/event/michelin-12h-nuerburgring/
LOCATION:Nürburgring
CATEGORIES:Veranstaltungskalender VG Adenau
END:VEVENT
BEGIN:VEVENT
DTSTART;TZID=Europe/Berlin:20260704T203000
DTEND;TZID=Europe/Berlin:20260704T223000
DTSTAMP:20260423T002421
CREATED:20260422T121521Z
LAST-MODIFIED:20260422T121521Z
UID:1380-1783197000-1783204200@svenbauer-media.de
SUMMARY:Theateraufführung der Freilichtbühne Schuld
DESCRIPTION:
URL:https://svenbauer-media.de/event/theaterauffuehrung-der-freilichtbuehne-schuld/
LOCATION:Freilichtbühne Schuld
CATEGORIES:Veranstaltungskalender VG Adenau
END:VEVENT
BEGIN:VEVENT
DTSTART;TZID=Europe/Berlin:20260705T153000
DTEND;TZID=Europe/Berlin:20260705T180000
DTSTAMP:20260423T002421
CREATED:20260422T122124Z
LAST-MODIFIED:20260422T122124Z
UID:1412-1783265400-1783274400@svenbauer-media.de
SUMMARY:Theateraufführung der Freilichtbühne Schuld
DESCRIPTION:
URL:https://svenbauer-media.de/event/theaterauffuehrung-der-freilichtbuehne-schuld-2/
LOCATION:Freilichtbühne Schuld
CATEGORIES:Veranstaltungskalender VG Adenau
END:VEVENT
BEGIN:VEVENT
DTSTART;VALUE=DATE:20260710
DTEND;VALUE=DATE:20260713
DTSTAMP:20260423T002421
CREATED:20260422T122204Z
LAST-MODIFIED:20260422T122204Z
UID:1414-1783641600-1783900799@svenbauer-media.de
SUMMARY:Int. ADAC Truck-Grand-Prix
DESCRIPTION:
URL:https://svenbauer-media.de/event/int-adac-truck-grand-prix/
LOCATION:Nürburgring
CATEGORIES:Veranstaltungskalender VG Adenau
END:VEVENT
BEGIN:VEVENT
DTSTART;TZID=Europe/Berlin:20260716T150000
DTEND;TZID=Europe/Berlin:20260716T180000
DTSTAMP:20260423T002421
CREATED:20260422T132816Z
LAST-MODIFIED:20260422T132816Z
UID:1567-1784214000-1784224800@svenbauer-media.de
SUMMARY:Generationen Treff Adenau
DESCRIPTION:
URL:https://svenbauer-media.de/event/generationen-treff-adenau-5/
LOCATION:Avenue4you Adenau
CATEGORIES:Veranstaltungskalender VG Adenau
END:VEVENT
BEGIN:VEVENT
DTSTART;TZID=Europe/Berlin:20260718T203000
DTEND;TZID=Europe/Berlin:20260718T230000
DTSTAMP:20260423T002421
CREATED:20260422T132850Z
LAST-MODIFIED:20260422T132850Z
UID:1568-1784406600-1784415600@svenbauer-media.de
SUMMARY:Theateraufführung der Freilichtbühne Schuld
DESCRIPTION:
URL:https://svenbauer-media.de/event/theaterauffuehrung-der-freilichtbuehne-schuld-3/
LOCATION:Freilichtbühne Schuld
CATEGORIES:Veranstaltungskalender VG Adenau
END:VEVENT
BEGIN:VEVENT
DTSTART;TZID=Europe/Berlin:20260719T153000
DTEND;TZID=Europe/Berlin:20260719T183000
DTSTAMP:20260423T002421
CREATED:20260422T132909Z
LAST-MODIFIED:20260422T132909Z
UID:1569-1784475000-1784485800@svenbauer-media.de
SUMMARY:Theateraufführung der Freilichtbühne Schuld
DESCRIPTION:
URL:https://svenbauer-media.de/event/theaterauffuehrung-der-freilichtbuehne-schuld-4/
LOCATION:Freilichtbühne Schuld
CATEGORIES:Veranstaltungskalender VG Adenau
END:VEVENT
BEGIN:VEVENT
DTSTART;VALUE=DATE:20260724
DTEND;VALUE=DATE:20260727
DTSTAMP:20260423T002421
CREATED:20260422T133005Z
LAST-MODIFIED:20260422T133516Z
UID:1570-1784851200-1785110399@svenbauer-media.de
SUMMARY:Kirmes & Junggesellenfest Müsch
DESCRIPTION:
URL:https://svenbauer-media.de/event/kirmes-junggesellenfest-muesch/
LOCATION:Müsch
CATEGORIES:Veranstaltungskalender VG Adenau
END:VEVENT
BEGIN:VEVENT
DTSTART;VALUE=DATE:20260724
DTEND;VALUE=DATE:20260727
DTSTAMP:20260423T002421
CREATED:20260422T133031Z
LAST-MODIFIED:20260422T133031Z
UID:1571-1784851200-1785110399@svenbauer-media.de
SUMMARY:Rad am Ring
DESCRIPTION:
URL:https://svenbauer-media.de/event/rad-am-ring/
LOCATION:Nürburgring
CATEGORIES:Veranstaltungskalender VG Adenau
END:VEVENT
BEGIN:VEVENT
DTSTART;VALUE=DATE:20260725
DTEND;VALUE=DATE:20260727
DTSTAMP:20260423T002421
CREATED:20260422T133159Z
LAST-MODIFIED:20260422T133159Z
UID:1582-1784937600-1785110399@svenbauer-media.de
SUMMARY:Kirmes in Ohlenhard
DESCRIPTION:
URL:https://svenbauer-media.de/event/kirmes-in-ohlenhard/
LOCATION:Dorfgemeinschaftshaus Ohlenhard
CATEGORIES:Veranstaltungskalender VG Adenau
END:VEVENT
BEGIN:VEVENT
DTSTART;TZID=Europe/Berlin:20260725T203000
DTEND;TZID=Europe/Berlin:20260725T230000
DTSTAMP:20260423T002421
CREATED:20260422T133058Z
LAST-MODIFIED:20260422T133058Z
UID:1572-1785011400-1785020400@svenbauer-media.de
SUMMARY:Theateraufführung der Freilichtbühne Schuld
DESCRIPTION:
URL:https://svenbauer-media.de/event/theaterauffuehrung-der-freilichtbuehne-schuld-5/
LOCATION:Freilichtbühne Schuld
CATEGORIES:Veranstaltungskalender VG Adenau
END:VEVENT
BEGIN:VEVENT
DTSTART;TZID=Europe/Berlin:20260726T153000
DTEND;TZID=Europe/Berlin:20260726T183000
DTSTAMP:20260423T002421
CREATED:20260422T133119Z
LAST-MODIFIED:20260422T133119Z
UID:1573-1785079800-1785090600@svenbauer-media.de
SUMMARY:Theateraufführung der Freilichtbühne Schuld
DESCRIPTION:
URL:https://svenbauer-media.de/event/theaterauffuehrung-der-freilichtbuehne-schuld-6/
LOCATION:Freilichtbühne Schuld
CATEGORIES:Veranstaltungskalender VG Adenau
END:VEVENT
BEGIN:VEVENT
DTSTART;TZID=Europe/Berlin:20260731T193000
DTEND;TZID=Europe/Berlin:20260731T223000
DTSTAMP:20260423T002421
CREATED:20260422T133226Z
LAST-MODIFIED:20260422T133226Z
UID:1583-1785526200-1785537000@svenbauer-media.de
SUMMARY:Theateraufführung der Freilichtbühne Schuld
DESCRIPTION:
URL:https://svenbauer-media.de/event/theaterauffuehrung-der-freilichtbuehne-schuld-7/
LOCATION:Freilichtbühne Schuld
CATEGORIES:Veranstaltungskalender VG Adenau
END:VEVENT
BEGIN:VEVENT
DTSTART;VALUE=DATE:20260801
DTEND;VALUE=DATE:20260802
DTSTAMP:20260423T002421
CREATED:20260422T133724Z
LAST-MODIFIED:20260422T133724Z
UID:1586-1785542400-1785628799@svenbauer-media.de
SUMMARY:Nürburgring Langstreckenserie NLS 7
DESCRIPTION:
URL:https://svenbauer-media.de/event/nuerburgring-langstreckenserie-nls-7/
LOCATION:Nürburgring
CATEGORIES:Veranstaltungskalender VG Adenau
END:VEVENT
BEGIN:VEVENT
DTSTART;TZID=Europe/Berlin:20260801T203000
DTEND;TZID=Europe/Berlin:20260801T230000
DTSTAMP:20260423T002421
CREATED:20260422T133301Z
LAST-MODIFIED:20260422T133625Z
UID:1584-1785616200-1785625200@svenbauer-media.de
SUMMARY:Theateraufführung der Freilichtbühne Schuld
DESCRIPTION:
URL:https://svenbauer-media.de/event/theaterauffuehrung-der-freilichtbuehne-schuld-8/
LOCATION:Freilichtbühne Schuld
CATEGORIES:Veranstaltungskalender VG Adenau
END:VEVENT
BEGIN:VEVENT
DTSTART;TZID=Europe/Berlin:20260802T120000
DTEND;TZID=Europe/Berlin:20260802T180000
DTSTAMP:20260423T002421
CREATED:20260422T133811Z
LAST-MODIFIED:20260422T133811Z
UID:1588-1785672000-1785693600@svenbauer-media.de
SUMMARY:Tag des offenen Turms in Aremberg
DESCRIPTION:
URL:https://svenbauer-media.de/event/tag-des-offenen-turms-in-aremberg-3/
LOCATION:Burgruine Aremberg
CATEGORIES:Veranstaltungskalender VG Adenau
END:VEVENT
BEGIN:VEVENT
DTSTART;TZID=Europe/Berlin:20260802T140000
DTEND;TZID=Europe/Berlin:20260802T180000
DTSTAMP:20260423T002421
CREATED:20260422T133750Z
LAST-MODIFIED:20260422T133750Z
UID:1587-1785679200-1785693600@svenbauer-media.de
SUMMARY:Gespielte Führung zur Burgruine Aremberg
DESCRIPTION:
URL:https://svenbauer-media.de/event/gespielte-fuehrung-zur-burgruine-aremberg/
LOCATION:Burgruine Aremberg
CATEGORIES:Veranstaltungskalender VG Adenau
END:VEVENT
END:VCALENDAR