BEGIN:VCALENDAR
VERSION:2.0
PRODID:-//SVENBAUER MEDIA - ECPv6.15.20//NONSGML v1.0//EN
CALSCALE:GREGORIAN
METHOD:PUBLISH
X-ORIGINAL-URL:https://svenbauer-media.de
X-WR-CALDESC:Veranstaltungen für SVENBAUER MEDIA
REFRESH-INTERVAL;VALUE=DURATION:PT1H
X-Robots-Tag:noindex
X-PUBLISHED-TTL:PT1H
BEGIN:VTIMEZONE
TZID:Europe/Berlin
BEGIN:DAYLIGHT
TZOFFSETFROM:+0100
TZOFFSETTO:+0200
TZNAME:CEST
DTSTART:20250330T010000
END:DAYLIGHT
BEGIN:STANDARD
TZOFFSETFROM:+0200
TZOFFSETTO:+0100
TZNAME:CET
DTSTART:20251026T010000
END:STANDARD
BEGIN:DAYLIGHT
TZOFFSETFROM:+0100
TZOFFSETTO:+0200
TZNAME:CEST
DTSTART:20260329T010000
END:DAYLIGHT
BEGIN:STANDARD
TZOFFSETFROM:+0200
TZOFFSETTO:+0100
TZNAME:CET
DTSTART:20261025T010000
END:STANDARD
BEGIN:DAYLIGHT
TZOFFSETFROM:+0100
TZOFFSETTO:+0200
TZNAME:CEST
DTSTART:20270328T010000
END:DAYLIGHT
BEGIN:STANDARD
TZOFFSETFROM:+0200
TZOFFSETTO:+0100
TZNAME:CET
DTSTART:20271031T010000
END:STANDARD
END:VTIMEZONE
BEGIN:VEVENT
DTSTART;VALUE=DATE:20260614
DTEND;VALUE=DATE:20260824
DTSTAMP:20260423T005510
CREATED:20260422T121034Z
LAST-MODIFIED:20260422T121034Z
UID:1369-1781395200-1787529599@svenbauer-media.de
SUMMARY:Lesesommer| Stadtbücherei Adenau | Mo.-Do.-Fr.
DESCRIPTION:
URL:https://svenbauer-media.de/event/lesesommer-stadtbuecherei-adenau-mo-do-fr/
LOCATION:Stadtbücherei Adenau
CATEGORIES:Veranstaltungskalender VG Adenau
END:VEVENT
BEGIN:VEVENT
DTSTART;VALUE=DATE:20260621
DTEND;VALUE=DATE:20260622
DTSTAMP:20260423T005510
CREATED:20260422T121225Z
LAST-MODIFIED:20260422T121225Z
UID:1373-1782000000-1782086399@svenbauer-media.de
SUMMARY:GRIP - Das Motorevent
DESCRIPTION:
URL:https://svenbauer-media.de/event/grip-das-motorevent/
LOCATION:Nürburgring
CATEGORIES:Veranstaltungskalender VG Adenau
END:VEVENT
BEGIN:VEVENT
DTSTART;TZID=Europe/Berlin:20260621T120000
DTEND;TZID=Europe/Berlin:20260621T180000
DTSTAMP:20260423T005510
CREATED:20260422T121317Z
LAST-MODIFIED:20260422T121317Z
UID:1376-1782043200-1782064800@svenbauer-media.de
SUMMARY:Tag des offenen Turms in Aremberg
DESCRIPTION:
URL:https://svenbauer-media.de/event/tag-des-offenen-turms-in-aremberg-2/
LOCATION:Burgruine Aremberg
CATEGORIES:Veranstaltungskalender VG Adenau
END:VEVENT
BEGIN:VEVENT
DTSTART;TZID=Europe/Berlin:20260621T130000
DTEND;TZID=Europe/Berlin:20260621T180000
DTSTAMP:20260423T005510
CREATED:20260422T121254Z
LAST-MODIFIED:20260422T121254Z
UID:1375-1782046800-1782064800@svenbauer-media.de
SUMMARY:Picknick-Konzert „MayenspÎl“
DESCRIPTION:
URL:https://svenbauer-media.de/event/picknick-konzert-mayenspil/
LOCATION:Burgruine Aremberg
CATEGORIES:Veranstaltungskalender VG Adenau
END:VEVENT
END:VCALENDAR