BEGIN:VCALENDAR
VERSION:2.0
PRODID:-//SVENBAUER MEDIA - ECPv6.15.20//NONSGML v1.0//EN
CALSCALE:GREGORIAN
METHOD:PUBLISH
X-WR-CALNAME:SVENBAUER MEDIA
X-ORIGINAL-URL:https://svenbauer-media.de
X-WR-CALDESC:Veranstaltungen für SVENBAUER MEDIA
REFRESH-INTERVAL;VALUE=DURATION:PT1H
X-Robots-Tag:noindex
X-PUBLISHED-TTL:PT1H
BEGIN:VTIMEZONE
TZID:Europe/Berlin
BEGIN:DAYLIGHT
TZOFFSETFROM:+0100
TZOFFSETTO:+0200
TZNAME:CEST
DTSTART:20250330T010000
END:DAYLIGHT
BEGIN:STANDARD
TZOFFSETFROM:+0200
TZOFFSETTO:+0100
TZNAME:CET
DTSTART:20251026T010000
END:STANDARD
BEGIN:DAYLIGHT
TZOFFSETFROM:+0100
TZOFFSETTO:+0200
TZNAME:CEST
DTSTART:20260329T010000
END:DAYLIGHT
BEGIN:STANDARD
TZOFFSETFROM:+0200
TZOFFSETTO:+0100
TZNAME:CET
DTSTART:20261025T010000
END:STANDARD
BEGIN:DAYLIGHT
TZOFFSETFROM:+0100
TZOFFSETTO:+0200
TZNAME:CEST
DTSTART:20270328T010000
END:DAYLIGHT
BEGIN:STANDARD
TZOFFSETFROM:+0200
TZOFFSETTO:+0100
TZNAME:CET
DTSTART:20271031T010000
END:STANDARD
END:VTIMEZONE
BEGIN:VEVENT
DTSTART;VALUE=DATE:20260529
DTEND;VALUE=DATE:20260601
DTSTAMP:20260422T231713
CREATED:20260422T120448Z
LAST-MODIFIED:20260422T120448Z
UID:1345-1780012800-1780271999@svenbauer-media.de
SUMMARY:DMV Goodyear Racing Days
DESCRIPTION:
URL:https://svenbauer-media.de/event/dmv-goodyear-racing-days/
LOCATION:Nürburgring
CATEGORIES:Veranstaltungskalender VG Adenau
END:VEVENT
BEGIN:VEVENT
DTSTART;VALUE=DATE:20260531
DTEND;VALUE=DATE:20260601
DTSTAMP:20260422T231713
CREATED:20260422T120547Z
LAST-MODIFIED:20260422T120547Z
UID:1347-1780185600-1780271999@svenbauer-media.de
SUMMARY:Schulfest | Grundschule Wershofen
DESCRIPTION:
URL:https://svenbauer-media.de/event/schulfest-grundschule-wershofen/
LOCATION:Grundschule Wershofen
CATEGORIES:Veranstaltungskalender VG Adenau
END:VEVENT
BEGIN:VEVENT
DTSTART;TZID=Europe/Berlin:20260531T140000
DTEND;TZID=Europe/Berlin:20260531T170000
DTSTAMP:20260422T231713
CREATED:20260422T120528Z
LAST-MODIFIED:20260422T120528Z
UID:1346-1780236000-1780246800@svenbauer-media.de
SUMMARY:DMV Goodyear Racing Days
DESCRIPTION:
URL:https://svenbauer-media.de/event/dmv-goodyear-racing-days-2/
LOCATION:Kirche St. Nikolaus Aremberg
CATEGORIES:Veranstaltungskalender VG Adenau
END:VEVENT
BEGIN:VEVENT
DTSTART;TZID=Europe/Berlin:20260531T140000
DTEND;TZID=Europe/Berlin:20260531T200000
DTSTAMP:20260422T231713
CREATED:20260422T120619Z
LAST-MODIFIED:20260422T120619Z
UID:1348-1780236000-1780257600@svenbauer-media.de
SUMMARY:Tag des offenen Turms in Aremberg
DESCRIPTION:
URL:https://svenbauer-media.de/event/tag-des-offenen-turms-in-aremberg/
LOCATION:Burgruine Aremberg
CATEGORIES:Veranstaltungskalender VG Adenau
END:VEVENT
END:VCALENDAR