BEGIN:VCALENDAR
VERSION:2.0
PRODID:-//SVENBAUER MEDIA - ECPv6.15.20//NONSGML v1.0//EN
CALSCALE:GREGORIAN
METHOD:PUBLISH
X-WR-CALNAME:SVENBAUER MEDIA
X-ORIGINAL-URL:https://svenbauer-media.de
X-WR-CALDESC:Veranstaltungen für SVENBAUER MEDIA
REFRESH-INTERVAL;VALUE=DURATION:PT1H
X-Robots-Tag:noindex
X-PUBLISHED-TTL:PT1H
BEGIN:VTIMEZONE
TZID:Europe/Berlin
BEGIN:DAYLIGHT
TZOFFSETFROM:+0100
TZOFFSETTO:+0200
TZNAME:CEST
DTSTART:20250330T010000
END:DAYLIGHT
BEGIN:STANDARD
TZOFFSETFROM:+0200
TZOFFSETTO:+0100
TZNAME:CET
DTSTART:20251026T010000
END:STANDARD
BEGIN:DAYLIGHT
TZOFFSETFROM:+0100
TZOFFSETTO:+0200
TZNAME:CEST
DTSTART:20260329T010000
END:DAYLIGHT
BEGIN:STANDARD
TZOFFSETFROM:+0200
TZOFFSETTO:+0100
TZNAME:CET
DTSTART:20261025T010000
END:STANDARD
BEGIN:DAYLIGHT
TZOFFSETFROM:+0100
TZOFFSETTO:+0200
TZNAME:CEST
DTSTART:20270328T010000
END:DAYLIGHT
BEGIN:STANDARD
TZOFFSETFROM:+0200
TZOFFSETTO:+0100
TZNAME:CET
DTSTART:20271031T010000
END:STANDARD
END:VTIMEZONE
BEGIN:VEVENT
DTSTART;TZID=Europe/Berlin:20260212T143000
DTEND;TZID=Europe/Berlin:20260212T200000
DTSTAMP:20260423T022422
CREATED:20260422T112137Z
LAST-MODIFIED:20260422T115827Z
UID:1268-1770906600-1770926400@svenbauer-media.de
SUMMARY:Weiberdonnerstag mit Möhnenumzug in Reifferscheid
DESCRIPTION:
URL:https://svenbauer-media.de/event/weiberdonnerstag-mit-moehnenumzug-in-reifferscheid/
LOCATION:Reifferscheid Dorfmitte
CATEGORIES:Veranstaltungskalender VG Adenau
END:VEVENT
BEGIN:VEVENT
DTSTART;TZID=Europe/Berlin:20260212T150000
DTEND;TZID=Europe/Berlin:20260212T200000
DTSTAMP:20260423T022422
CREATED:20260422T111904Z
LAST-MODIFIED:20260422T115811Z
UID:1265-1770908400-1770926400@svenbauer-media.de
SUMMARY:Weiberdonnerstag Umzug & Tanz | Wershofen
DESCRIPTION:
URL:https://svenbauer-media.de/event/weiberdonnerstag-umzug-tanz-wershofen/
LOCATION:Schützenhalle Wershofen
CATEGORIES:Veranstaltungskalender VG Adenau
END:VEVENT
BEGIN:VEVENT
DTSTART;TZID=Europe/Berlin:20260212T151100
DTEND;TZID=Europe/Berlin:20260212T210000
DTSTAMP:20260423T022422
CREATED:20260422T111803Z
LAST-MODIFIED:20260422T115754Z
UID:1262-1770909060-1770930000@svenbauer-media.de
SUMMARY:Möhnensitzung | Schuld
DESCRIPTION:
URL:https://svenbauer-media.de/event/moehnensitzung-schuld/
LOCATION:Festzelt Schuld
CATEGORIES:Veranstaltungskalender VG Adenau
END:VEVENT
END:VCALENDAR