BEGIN:VCALENDAR
VERSION:2.0
PRODID:-//SVENBAUER MEDIA - ECPv6.15.20//NONSGML v1.0//EN
CALSCALE:GREGORIAN
METHOD:PUBLISH
X-ORIGINAL-URL:https://svenbauer-media.de
X-WR-CALDESC:Veranstaltungen für SVENBAUER MEDIA
REFRESH-INTERVAL;VALUE=DURATION:PT1H
X-Robots-Tag:noindex
X-PUBLISHED-TTL:PT1H
BEGIN:VTIMEZONE
TZID:Europe/Berlin
BEGIN:DAYLIGHT
TZOFFSETFROM:+0100
TZOFFSETTO:+0200
TZNAME:CEST
DTSTART:20250330T010000
END:DAYLIGHT
BEGIN:STANDARD
TZOFFSETFROM:+0200
TZOFFSETTO:+0100
TZNAME:CET
DTSTART:20251026T010000
END:STANDARD
BEGIN:DAYLIGHT
TZOFFSETFROM:+0100
TZOFFSETTO:+0200
TZNAME:CEST
DTSTART:20260329T010000
END:DAYLIGHT
BEGIN:STANDARD
TZOFFSETFROM:+0200
TZOFFSETTO:+0100
TZNAME:CET
DTSTART:20261025T010000
END:STANDARD
BEGIN:DAYLIGHT
TZOFFSETFROM:+0100
TZOFFSETTO:+0200
TZNAME:CEST
DTSTART:20270328T010000
END:DAYLIGHT
BEGIN:STANDARD
TZOFFSETFROM:+0200
TZOFFSETTO:+0100
TZNAME:CET
DTSTART:20271031T010000
END:STANDARD
END:VTIMEZONE
BEGIN:VEVENT
DTSTART;VALUE=DATE:20260113
DTEND;VALUE=DATE:20260116
DTSTAMP:20260423T040649
CREATED:20260422T110924Z
LAST-MODIFIED:20260422T115913Z
UID:1240-1768262400-1768521599@svenbauer-media.de
SUMMARY:Tag der offenen Tür | Grundschule Wershofen
DESCRIPTION:
URL:https://svenbauer-media.de/event/tag-der-offenen-tuer-grundschule-wershofen/
LOCATION:Grundschule Wershofen
CATEGORIES:Veranstaltungskalender VG Adenau
END:VEVENT
BEGIN:VEVENT
DTSTART;TZID=Europe/Berlin:20260115T150000
DTEND;TZID=Europe/Berlin:20260115T180000
DTSTAMP:20260423T040649
CREATED:20260422T111046Z
LAST-MODIFIED:20260422T115909Z
UID:1243-1768489200-1768500000@svenbauer-media.de
SUMMARY:Generationen Treff Adenau
DESCRIPTION:
URL:https://svenbauer-media.de/event/generationen-treff-adenau/
LOCATION:Avenue4you Adenau
CATEGORIES:Veranstaltungskalender VG Adenau
END:VEVENT
END:VCALENDAR